BEGIN:VCALENDAR
VERSION:2.0
PRODID:-//SideTrack Bar + Grill - ECPv6.15.20//NONSGML v1.0//EN
CALSCALE:GREGORIAN
METHOD:PUBLISH
X-WR-CALNAME:SideTrack Bar + Grill
X-ORIGINAL-URL:https://www.sidetrackeats.com
X-WR-CALDESC:Events for SideTrack Bar + Grill
REFRESH-INTERVAL;VALUE=DURATION:PT1H
X-Robots-Tag:noindex
X-PUBLISHED-TTL:PT1H
BEGIN:VTIMEZONE
TZID:America/Los_Angeles
BEGIN:DAYLIGHT
TZOFFSETFROM:-0800
TZOFFSETTO:-0700
TZNAME:PDT
DTSTART:20230312T100000
END:DAYLIGHT
BEGIN:STANDARD
TZOFFSETFROM:-0700
TZOFFSETTO:-0800
TZNAME:PST
DTSTART:20231105T090000
END:STANDARD
BEGIN:DAYLIGHT
TZOFFSETFROM:-0800
TZOFFSETTO:-0700
TZNAME:PDT
DTSTART:20240310T100000
END:DAYLIGHT
BEGIN:STANDARD
TZOFFSETFROM:-0700
TZOFFSETTO:-0800
TZNAME:PST
DTSTART:20241103T090000
END:STANDARD
BEGIN:DAYLIGHT
TZOFFSETFROM:-0800
TZOFFSETTO:-0700
TZNAME:PDT
DTSTART:20250309T100000
END:DAYLIGHT
BEGIN:STANDARD
TZOFFSETFROM:-0700
TZOFFSETTO:-0800
TZNAME:PST
DTSTART:20251102T090000
END:STANDARD
END:VTIMEZONE
BEGIN:VEVENT
DTSTART;TZID=America/Los_Angeles:20240211T150000
DTEND;TZID=America/Los_Angeles:20240211T220000
DTSTAMP:20260421T015636
CREATED:20240122T204300Z
LAST-MODIFIED:20240207T161005Z
UID:8779-1707663600-1707688800@www.sidetrackeats.com
SUMMARY:CLOSING 2PM - Super Bowl (call us to order your party platters!)
DESCRIPTION:SideTrack will close at 2PM on Super Bowl Sunday \nTake out our party platters available!
URL:https://www.sidetrackeats.com/event/closing-2pm-super-bowl/
CATEGORIES:Special Hours
END:VEVENT
END:VCALENDAR