BEGIN:VCALENDAR
VERSION:2.0
PRODID:-//SideTrack Bar + Grill - ECPv6.15.20//NONSGML v1.0//EN
CALSCALE:GREGORIAN
METHOD:PUBLISH
X-WR-CALNAME:SideTrack Bar + Grill
X-ORIGINAL-URL:https://www.sidetrackeats.com
X-WR-CALDESC:Events for SideTrack Bar + Grill
REFRESH-INTERVAL;VALUE=DURATION:PT1H
X-Robots-Tag:noindex
X-PUBLISHED-TTL:PT1H
BEGIN:VTIMEZONE
TZID:America/Los_Angeles
BEGIN:DAYLIGHT
TZOFFSETFROM:-0800
TZOFFSETTO:-0700
TZNAME:PDT
DTSTART:20240310T100000
END:DAYLIGHT
BEGIN:STANDARD
TZOFFSETFROM:-0700
TZOFFSETTO:-0800
TZNAME:PST
DTSTART:20241103T090000
END:STANDARD
BEGIN:DAYLIGHT
TZOFFSETFROM:-0800
TZOFFSETTO:-0700
TZNAME:PDT
DTSTART:20250309T100000
END:DAYLIGHT
BEGIN:STANDARD
TZOFFSETFROM:-0700
TZOFFSETTO:-0800
TZNAME:PST
DTSTART:20251102T090000
END:STANDARD
BEGIN:DAYLIGHT
TZOFFSETFROM:-0800
TZOFFSETTO:-0700
TZNAME:PDT
DTSTART:20260308T100000
END:DAYLIGHT
BEGIN:STANDARD
TZOFFSETFROM:-0700
TZOFFSETTO:-0800
TZNAME:PST
DTSTART:20261101T090000
END:STANDARD
END:VTIMEZONE
BEGIN:VEVENT
DTSTART;TZID=America/Los_Angeles:20250430T170000
DTEND;TZID=America/Los_Angeles:20250430T200000
DTSTAMP:20260421T054429
CREATED:20250321T221707Z
LAST-MODIFIED:20250331T164454Z
UID:13483-1746032400-1746043200@www.sidetrackeats.com
SUMMARY:Nines Baseball Fundraiser
DESCRIPTION:Join us at SideTrack\, mention the Nines Baseball Fundraiser from 5pm to 8pm\nand SideTrack will donate a portion of the proceeds from your purchase.\n  \n \n  \n 
URL:https://www.sidetrackeats.com/event/ninesbaseballfundraiser/
CATEGORIES:Community Fundraisers
END:VEVENT
END:VCALENDAR