BEGIN:VCALENDAR
VERSION:2.0
PRODID:-//SideTrack Bar + Grill - ECPv6.15.20//NONSGML v1.0//EN
CALSCALE:GREGORIAN
METHOD:PUBLISH
X-ORIGINAL-URL:https://www.sidetrackeats.com
X-WR-CALDESC:Events for SideTrack Bar + Grill
REFRESH-INTERVAL;VALUE=DURATION:PT1H
X-Robots-Tag:noindex
X-PUBLISHED-TTL:PT1H
BEGIN:VTIMEZONE
TZID:America/Los_Angeles
BEGIN:DAYLIGHT
TZOFFSETFROM:-0800
TZOFFSETTO:-0700
TZNAME:PDT
DTSTART:20230312T100000
END:DAYLIGHT
BEGIN:STANDARD
TZOFFSETFROM:-0700
TZOFFSETTO:-0800
TZNAME:PST
DTSTART:20231105T090000
END:STANDARD
BEGIN:DAYLIGHT
TZOFFSETFROM:-0800
TZOFFSETTO:-0700
TZNAME:PDT
DTSTART:20240310T100000
END:DAYLIGHT
BEGIN:STANDARD
TZOFFSETFROM:-0700
TZOFFSETTO:-0800
TZNAME:PST
DTSTART:20241103T090000
END:STANDARD
BEGIN:DAYLIGHT
TZOFFSETFROM:-0800
TZOFFSETTO:-0700
TZNAME:PDT
DTSTART:20250309T100000
END:DAYLIGHT
BEGIN:STANDARD
TZOFFSETFROM:-0700
TZOFFSETTO:-0800
TZNAME:PST
DTSTART:20251102T090000
END:STANDARD
END:VTIMEZONE
BEGIN:VEVENT
DTSTART;VALUE=DATE:20240301
DTEND;VALUE=DATE:20240401
DTSTAMP:20260422T000428
CREATED:20240228T173554Z
LAST-MODIFIED:20240330T214715Z
UID:10000307-1709254800-1711846799@www.sidetrackeats.com
SUMMARY:Irish Egg Rolls - All of March! Yummy!
DESCRIPTION:We will be featuring our highly asked for Irish Egg rolls all of March.
URL:https://www.sidetrackeats.com/event/irish-egg-rolls-all-of-march-yummy/
CATEGORIES:Limited Time
ATTACH;FMTTYPE=image/png:https://www.sidetrackeats.com/wp-content/uploads/Irish-Egg-Rolls-Calendar.png
END:VEVENT
BEGIN:VEVENT
DTSTART;TZID=America/Los_Angeles:20240304T180000
DTEND;TZID=America/Los_Angeles:20240304T210000
DTSTAMP:20260422T000428
CREATED:20240220T182608Z
LAST-MODIFIED:20240317T191144Z
UID:10000303-1709575200-1709586000@www.sidetrackeats.com
SUMMARY:Mr. Amador - Tips for Change Fundraiser
DESCRIPTION:Join us in supporting Mr. Amador. This is a fundraiser for George Mark Children’s Hospital. \nReservations recommended. Email mramadorshow@gmail.com
URL:https://www.sidetrackeats.com/event/mr-amador-tips-for-change-fundraiser/
CATEGORIES:Community Fundraisers
ATTACH;FMTTYPE=image/png:https://www.sidetrackeats.com/wp-content/uploads/Amador-Fundraiser-Calendar.png
END:VEVENT
BEGIN:VEVENT
DTSTART;TZID=America/Los_Angeles:20240316T170000
DTEND;TZID=America/Los_Angeles:20240316T200000
DTSTAMP:20260422T000428
CREATED:20240126T184351Z
LAST-MODIFIED:20240316T193844Z
UID:10000297-1710608400-1710619200@www.sidetrackeats.com
SUMMARY:St. Patrick's Day Brew Crawl
DESCRIPTION:SideTrack will be participating in the Pleasanton sponsored event – St. Patrick’s Day Brew Crawl
URL:https://www.sidetrackeats.com/event/st-patricks-day-brew-crawl/
CATEGORIES:Downtown Pleasanton Events
END:VEVENT
END:VCALENDAR