BEGIN:VCALENDAR
VERSION:2.0
PRODID:-//SideTrack Bar + Grill - ECPv6.15.20//NONSGML v1.0//EN
CALSCALE:GREGORIAN
METHOD:PUBLISH
X-ORIGINAL-URL:https://www.sidetrackeats.com
X-WR-CALDESC:Events for SideTrack Bar + Grill
REFRESH-INTERVAL;VALUE=DURATION:PT1H
X-Robots-Tag:noindex
X-PUBLISHED-TTL:PT1H
BEGIN:VTIMEZONE
TZID:America/Los_Angeles
BEGIN:DAYLIGHT
TZOFFSETFROM:-0800
TZOFFSETTO:-0700
TZNAME:PDT
DTSTART:20230312T100000
END:DAYLIGHT
BEGIN:STANDARD
TZOFFSETFROM:-0700
TZOFFSETTO:-0800
TZNAME:PST
DTSTART:20231105T090000
END:STANDARD
BEGIN:DAYLIGHT
TZOFFSETFROM:-0800
TZOFFSETTO:-0700
TZNAME:PDT
DTSTART:20240310T100000
END:DAYLIGHT
BEGIN:STANDARD
TZOFFSETFROM:-0700
TZOFFSETTO:-0800
TZNAME:PST
DTSTART:20241103T090000
END:STANDARD
BEGIN:DAYLIGHT
TZOFFSETFROM:-0800
TZOFFSETTO:-0700
TZNAME:PDT
DTSTART:20250309T100000
END:DAYLIGHT
BEGIN:STANDARD
TZOFFSETFROM:-0700
TZOFFSETTO:-0800
TZNAME:PST
DTSTART:20251102T090000
END:STANDARD
END:VTIMEZONE
BEGIN:VEVENT
DTSTART;VALUE=DATE:20240404
DTEND;VALUE=DATE:20240406
DTSTAMP:20260421T223627
CREATED:20240326T000722Z
LAST-MODIFIED:20250728T211916Z
UID:10000243-1712192400-1712278799@www.sidetrackeats.com
SUMMARY:Smoke (Today: Tri Tip\, Pork Belly Sliders and Baby Back Ribs)
DESCRIPTION:WHILE SUPPLIES LAST:  \nEvery other Thursday join us for smoked meats! It is smoked on our giant offset smoker.   \n  \nMenu options: \n\nHalf rack baby back ribs with coleslaw and fries\nPork bell sliders (3) served on hawaiian roll with coleslaw and fries\nTri Tip sandwich with pepperjack cheese and onion strings on panini roll with fries
URL:https://www.sidetrackeats.com/event/smoked-brisket-3-12/
CATEGORIES:SMOKE
ATTACH;FMTTYPE=image/png:https://www.sidetrackeats.com/wp-content/uploads/SMOKE-Calendar.png
END:VEVENT
BEGIN:VEVENT
DTSTART;TZID=America/Los_Angeles:20240409T183000
DTEND;TZID=America/Los_Angeles:20240409T210000
DTSTAMP:20260421T223627
CREATED:20240308T191546Z
LAST-MODIFIED:20241011T004406Z
UID:10000308-1712687400-1712696400@www.sidetrackeats.com
SUMMARY:A Night at the Speakeasy - Ticketed Event
DESCRIPTION:Join SideTrack Bar + Grill for a night at the speakeasy featuring an evening of jazz\, food and drinks.\nTypically closed on Tuesdays\, the restaurant becomes a speakeasy-style lounge for one evening. \nEnjoy dancing to the live music by the Bay Area’s Matt Finders & Friends band\, who will create the ambience of a 1920s speakeasy with their jazz performance. \nTickets must be purchased in advance as seating is limited. Ticket price includes unlimited appetizers; drinks are not included. This is 21 and older only event. \n  \nMatt Finders and Friends Band bios:\nMatt Finders (Bass):  17 years on the Tonight Show with the Jay Leno Band after performing in New York for ten years with Benny Goodman\, Natalie Cole\, Mel Lewis and many others. Karen Marguth (Vocals): Four critically acclaimed CDs under her own name and performs regularly with Matt Finders and Friends. Guido Fazio (Woodwinds): a composer\, arranger and multi-instrumentalist who has worked with Mel Torme\, Sarah Vaughn\, Phil Woods and more. John R Burr (Keyboard): Toured and recorded with Maria Muldaur\, Allison Brown\, Robbin Ford\, Kenny Washington and many others. Kelly Fasman (Drums): Performed with Kenny Logins\, Peter Cetera\, The Moscow Circus\, Martha Reeves and others. \n\n\n\n\n\n\n\n\n\n\n 
URL:https://www.sidetrackeats.com/event/speakeasy/
CATEGORIES:Speakeasy
ATTACH;FMTTYPE=image/png:https://www.sidetrackeats.com/wp-content/uploads/Speakeasy-Calendar-v3.png
END:VEVENT
BEGIN:VEVENT
DTSTART;TZID=America/Los_Angeles:20240410T170000
DTEND;TZID=America/Los_Angeles:20240410T200000
DTSTAMP:20260421T223627
CREATED:20240309T004039Z
LAST-MODIFIED:20240317T191102Z
UID:10000309-1712768400-1712779200@www.sidetrackeats.com
SUMMARY:Amador High School Swim Team Fundraiser
DESCRIPTION:Join us for dine in or take out\, mention the Amador Swim Team Fundraiser from 5pm to 8pm and SideTrack will donate a portion of the proceeds from your purchase. \nMention AVHS SWIM and 15% of your total bill will be donated back to our swim team!
URL:https://www.sidetrackeats.com/event/amador-high-school-swim-team-fundraiser/
CATEGORIES:Community Fundraisers
ATTACH;FMTTYPE=image/png:https://www.sidetrackeats.com/wp-content/uploads/Amador-Fundraiser-Calendar.png
END:VEVENT
BEGIN:VEVENT
DTSTART;TZID=America/Los_Angeles:20240412T110000
DTEND;TZID=America/Los_Angeles:20240412T210000
DTSTAMP:20260421T223627
CREATED:20240529T180930Z
LAST-MODIFIED:20250728T211916Z
UID:10000381-1712919600-1712955600@www.sidetrackeats.com
SUMMARY:Smoked Brisket!
DESCRIPTION:IT’S BACK!  \nWHILE SUPPLIES LAST: Every other Friday starting at 11am join us for smoked brisket! It is smoked on our giant offset smoker.   \n  \nMenu options: \n\nBrisket 1/2 – 2 pounds at your table or to go! Choice of “the point” (fattier) or “the flat” (leaner) or combo\nBrisket Sandwich on an egg bun – plain or with onions and pickle\nBrisket Tacos – 3 tacos with pico de gallo\, cilantro aioli and avocado\nBrisket Street Tacos – 4 street tacos with cilantro and onion\nBrisket Mac-n-Cheese
URL:https://www.sidetrackeats.com/event/smoked-brisket-2/2024-04-12/
CATEGORIES:SMOKE
END:VEVENT
BEGIN:VEVENT
DTSTART;TZID=America/Los_Angeles:20240418T170000
DTEND;TZID=America/Los_Angeles:20240418T210000
DTSTAMP:20260421T223627
CREATED:20240529T180202Z
LAST-MODIFIED:20250728T211916Z
UID:10000367-1713459600-1713474000@www.sidetrackeats.com
SUMMARY:Smoked Meats!
DESCRIPTION:WHILE SUPPLIES LAST:  \nEvery other Thursday starting at 5pm join us for smoked meats! They are smoked on our giant offset smoker.   \n  \nMenu options: \n\nTri Tip sandwich with pepperjack cheese and onion strings on panini roll with fries\nHalf rack baby back ribs with coleslaw and fries\nPork bell sliders (3) served on Hawaiian roll with coleslaw and fries
URL:https://www.sidetrackeats.com/event/smoked-meats/2024-04-18/
CATEGORIES:SMOKE
END:VEVENT
BEGIN:VEVENT
DTSTART;TZID=America/Los_Angeles:20240418T170000
DTEND;TZID=America/Los_Angeles:20240418T210000
DTSTAMP:20260421T223627
CREATED:20240529T181418Z
LAST-MODIFIED:20250728T211916Z
UID:10000389-1713459600-1713474000@www.sidetrackeats.com
SUMMARY:Smoked Meats!
DESCRIPTION:WHILE SUPPLIES LAST:  \nEvery other Thursday starting at 5pm join us for smoked meats! They are smoked on our giant offset smoker.   \n  \nMenu options: \n\nTri Tip sandwich with pepperjack cheese and onion strings on panini roll with fries\nHalf rack baby back ribs with coleslaw and fries\nPork bell sliders (3) served on Hawaiian roll with coleslaw and fries
URL:https://www.sidetrackeats.com/event/smoked-meats-2/2024-04-18/
CATEGORIES:SMOKE
END:VEVENT
BEGIN:VEVENT
DTSTART;TZID=America/Los_Angeles:20240423T170000
DTEND;TZID=America/Los_Angeles:20240423T200000
DTSTAMP:20260421T223627
CREATED:20240105T223041Z
LAST-MODIFIED:20240404T192929Z
UID:10000291-1713891600-1713902400@www.sidetrackeats.com
SUMMARY:Tips for Change - Humane Society Fundraiser
DESCRIPTION:Join us for dinner while supporting the Humane Society – email Todd Utikal for a reservation: todd@sidetrackeats.com
URL:https://www.sidetrackeats.com/event/tips-for-change-humane-society-fundraiser/
CATEGORIES:Community Fundraisers
ATTACH;FMTTYPE=image/png:https://www.sidetrackeats.com/wp-content/uploads/Fundraisers-Calendar.png
END:VEVENT
BEGIN:VEVENT
DTSTART;TZID=America/Los_Angeles:20240424T170000
DTEND;TZID=America/Los_Angeles:20240424T200000
DTSTAMP:20260421T223627
CREATED:20240416T174112Z
LAST-MODIFIED:20240416T174112Z
UID:10000363-1713978000-1713988800@www.sidetrackeats.com
SUMMARY:Amador Valley HS Class of 2025 Fundraiser
DESCRIPTION:Join us for dine in or take out\, mention the Amador Valley Class of 2025 Fundraiser from 5pm to 8pm and SideTrack will donate a portion of the proceeds from your purchase.
URL:https://www.sidetrackeats.com/event/amador-valley-hs-class-of-2025-fundraiser/
CATEGORIES:Community Fundraisers
END:VEVENT
BEGIN:VEVENT
DTSTART;TZID=America/Los_Angeles:20240430T180000
DTEND;TZID=America/Los_Angeles:20240430T200000
DTSTAMP:20260421T223627
CREATED:20240328T165136Z
LAST-MODIFIED:20240406T210235Z
UID:10000345-1714500000-1714507200@www.sidetrackeats.com
SUMMARY:Tequila Taste Talk - Ticketed Event
DESCRIPTION:Join us for a tasting of select Proximo Tequilas and Mezcals with Brand Ambassador Martha Jauregui.\nMaestro Dobel \nGran Centenario \nMezcal Artesanal 400 Conejos \nMezcal Creyente \nAppetizers will be served. \nLimited seating. Tickets required. 
URL:https://www.sidetrackeats.com/event/tequila-taste-talk-4-30-24/
CATEGORIES:Taste Talks
ATTACH;FMTTYPE=image/png:https://www.sidetrackeats.com/wp-content/uploads/Tequila-Taste-Talk-Calendar-1.png
END:VEVENT
END:VCALENDAR