BEGIN:VCALENDAR
VERSION:2.0
PRODID:-//SideTrack Bar + Grill - ECPv6.15.20//NONSGML v1.0//EN
CALSCALE:GREGORIAN
METHOD:PUBLISH
X-WR-CALNAME:SideTrack Bar + Grill
X-ORIGINAL-URL:https://www.sidetrackeats.com
X-WR-CALDESC:Events for SideTrack Bar + Grill
REFRESH-INTERVAL;VALUE=DURATION:PT1H
X-Robots-Tag:noindex
X-PUBLISHED-TTL:PT1H
BEGIN:VTIMEZONE
TZID:America/Los_Angeles
BEGIN:DAYLIGHT
TZOFFSETFROM:-0800
TZOFFSETTO:-0700
TZNAME:PDT
DTSTART:20230312T100000
END:DAYLIGHT
BEGIN:STANDARD
TZOFFSETFROM:-0700
TZOFFSETTO:-0800
TZNAME:PST
DTSTART:20231105T090000
END:STANDARD
BEGIN:DAYLIGHT
TZOFFSETFROM:-0800
TZOFFSETTO:-0700
TZNAME:PDT
DTSTART:20240310T100000
END:DAYLIGHT
BEGIN:STANDARD
TZOFFSETFROM:-0700
TZOFFSETTO:-0800
TZNAME:PST
DTSTART:20241103T090000
END:STANDARD
BEGIN:DAYLIGHT
TZOFFSETFROM:-0800
TZOFFSETTO:-0700
TZNAME:PDT
DTSTART:20250309T100000
END:DAYLIGHT
BEGIN:STANDARD
TZOFFSETFROM:-0700
TZOFFSETTO:-0800
TZNAME:PST
DTSTART:20251102T090000
END:STANDARD
END:VTIMEZONE
BEGIN:VEVENT
DTSTART;TZID=America/Los_Angeles:20240502T170000
DTEND;TZID=America/Los_Angeles:20240502T200000
DTSTAMP:20260421T211950
CREATED:20240429T165828Z
LAST-MODIFIED:20240429T165828Z
UID:10000364-1714669200-1714680000@www.sidetrackeats.com
SUMMARY:Foothill Summer Swim Fundraiser
DESCRIPTION:Join us for dine in or take out\, mention the Foothill Swim Team Fundraiser from 5pm to 8pm and SideTrack will donate a portion of the proceeds from your purchase. \n 
URL:https://www.sidetrackeats.com/event/foothill-summer-swim-fundraiser/
CATEGORIES:Community Fundraisers
END:VEVENT
BEGIN:VEVENT
DTSTART;TZID=America/Los_Angeles:20240504T170000
DTEND;TZID=America/Los_Angeles:20240504T200000
DTSTAMP:20260421T211950
CREATED:20240404T192054Z
LAST-MODIFIED:20240404T192841Z
UID:10000360-1714842000-1714852800@www.sidetrackeats.com
SUMMARY:Summer Wine Stroll
DESCRIPTION:SideTrack will be participating in the Pleasanton sponsored event. Join the stroll and then join us for dinner! \n   
URL:https://www.sidetrackeats.com/event/summer-wine-stroll/
CATEGORIES:Downtown Pleasanton Events
END:VEVENT
BEGIN:VEVENT
DTSTART;TZID=America/Los_Angeles:20240512T100000
DTEND;TZID=America/Los_Angeles:20240512T130000
DTSTAMP:20260421T211950
CREATED:20231204T062048Z
LAST-MODIFIED:20240409T181045Z
UID:10000223-1715508000-1715518800@www.sidetrackeats.com
SUMMARY:Mother's Day Brunch - reservations recommended
DESCRIPTION:
URL:https://www.sidetrackeats.com/event/mothers-day-brunch/
CATEGORIES:Event
ATTACH;FMTTYPE=image/png:https://www.sidetrackeats.com/wp-content/uploads/Mothers-Day-Calendar.png
END:VEVENT
BEGIN:VEVENT
DTSTART;TZID=America/Los_Angeles:20240515T170000
DTEND;TZID=America/Los_Angeles:20240515T200000
DTSTAMP:20260421T211950
CREATED:20240411T190703Z
LAST-MODIFIED:20240416T174126Z
UID:10000361-1715792400-1715803200@www.sidetrackeats.com
SUMMARY:Amador Valley HS Class of 2027 Fundraiser
DESCRIPTION:Join us for dine in or take out\, mention the Amador Valley Class of 2027 Fundraiser from 5pm to 8pm and SideTrack will donate a portion of the proceeds from your purchase.
URL:https://www.sidetrackeats.com/event/amador-valley-hs-class-of-2027-fundraiser/
CATEGORIES:Community Fundraisers
END:VEVENT
BEGIN:VEVENT
DTSTART;TZID=America/Los_Angeles:20240530T170000
DTEND;TZID=America/Los_Angeles:20240530T210000
DTSTAMP:20260421T211950
CREATED:20240529T181418Z
LAST-MODIFIED:20250728T211916Z
UID:10000392-1717088400-1717102800@www.sidetrackeats.com
SUMMARY:Smoked Meats!
DESCRIPTION:WHILE SUPPLIES LAST:  \nEvery other Thursday starting at 5pm join us for smoked meats! They are smoked on our giant offset smoker.   \n  \nMenu options: \n\nTri Tip sandwich with pepperjack cheese and onion strings on panini roll with fries\nHalf rack baby back ribs with coleslaw and fries\nPork bell sliders (3) served on Hawaiian roll with coleslaw and fries
URL:https://www.sidetrackeats.com/event/smoked-meats-2/2024-05-30/
CATEGORIES:SMOKE
END:VEVENT
END:VCALENDAR