BEGIN:VCALENDAR
VERSION:2.0
PRODID:-//SideTrack Bar + Grill - ECPv6.15.20//NONSGML v1.0//EN
CALSCALE:GREGORIAN
METHOD:PUBLISH
X-WR-CALNAME:SideTrack Bar + Grill
X-ORIGINAL-URL:https://www.sidetrackeats.com
X-WR-CALDESC:Events for SideTrack Bar + Grill
REFRESH-INTERVAL;VALUE=DURATION:PT1H
X-Robots-Tag:noindex
X-PUBLISHED-TTL:PT1H
BEGIN:VTIMEZONE
TZID:America/Los_Angeles
BEGIN:DAYLIGHT
TZOFFSETFROM:-0800
TZOFFSETTO:-0700
TZNAME:PDT
DTSTART:20230312T100000
END:DAYLIGHT
BEGIN:STANDARD
TZOFFSETFROM:-0700
TZOFFSETTO:-0800
TZNAME:PST
DTSTART:20231105T090000
END:STANDARD
BEGIN:DAYLIGHT
TZOFFSETFROM:-0800
TZOFFSETTO:-0700
TZNAME:PDT
DTSTART:20240310T100000
END:DAYLIGHT
BEGIN:STANDARD
TZOFFSETFROM:-0700
TZOFFSETTO:-0800
TZNAME:PST
DTSTART:20241103T090000
END:STANDARD
BEGIN:DAYLIGHT
TZOFFSETFROM:-0800
TZOFFSETTO:-0700
TZNAME:PDT
DTSTART:20250309T100000
END:DAYLIGHT
BEGIN:STANDARD
TZOFFSETFROM:-0700
TZOFFSETTO:-0800
TZNAME:PST
DTSTART:20251102T090000
END:STANDARD
END:VTIMEZONE
BEGIN:VEVENT
DTSTART;TZID=America/Los_Angeles:20240604T183000
DTEND;TZID=America/Los_Angeles:20240604T203000
DTSTAMP:20260421T195309
CREATED:20240518T171411Z
LAST-MODIFIED:20240520T185508Z
UID:10000366-1717525800-1717533000@www.sidetrackeats.com
SUMMARY:Wine & Food Tasting Affair (Ticketed Event)
DESCRIPTION:Join SideTrack\, Wine Steward and Primrose Bakery for a great night out! \nA walk around event sampling more than 25 hand selected wines with SideTrack’s most popular appetizers and Primrose’s baked treats. \nLocation: SideTrack Bar+Grill \nTickets: $55 (limited availability) \nPurchase tickets @ TWS Gets Sidetracked – For 90 of You! | The Wine Steward
URL:https://www.sidetrackeats.com/event/wine-food-tasting-affair-ticketed-event/
LOCATION:SideTrack Bar+Grill 
CATEGORIES:Wine + Food
ATTACH;FMTTYPE=image/png:https://www.sidetrackeats.com/wp-content/uploads/Wine-Steward-with-Primrose-Calendar.png
END:VEVENT
BEGIN:VEVENT
DTSTART;TZID=America/Los_Angeles:20240606T170000
DTEND;TZID=America/Los_Angeles:20240606T210000
DTSTAMP:20260421T195309
CREATED:20240529T180202Z
LAST-MODIFIED:20250728T211916Z
UID:10000373-1717693200-1717707600@www.sidetrackeats.com
SUMMARY:Smoked Meats!
DESCRIPTION:WHILE SUPPLIES LAST:  \nEvery other Thursday starting at 5pm join us for smoked meats! They are smoked on our giant offset smoker.   \n  \nMenu options: \n\nTri Tip sandwich with pepperjack cheese and onion strings on panini roll with fries\nHalf rack baby back ribs with coleslaw and fries\nPork bell sliders (3) served on Hawaiian roll with coleslaw and fries
URL:https://www.sidetrackeats.com/event/smoked-meats/2024-06-06/
CATEGORIES:SMOKE
END:VEVENT
BEGIN:VEVENT
DTSTART;TZID=America/Los_Angeles:20240614T080000
DTEND;TZID=America/Los_Angeles:20240614T170000
DTSTAMP:20260421T195309
CREATED:20240529T180930Z
LAST-MODIFIED:20250728T211916Z
UID:10000387-1718352000-1718384400@www.sidetrackeats.com
SUMMARY:Smoked Brisket!
DESCRIPTION:IT’S BACK!  \nWHILE SUPPLIES LAST: Every other Friday starting at 11am join us for smoked brisket! It is smoked on our giant offset smoker.   \n  \nMenu options: \n\nBrisket 1/2 – 2 pounds at your table or to go! Choice of “the point” (fattier) or “the flat” (leaner) or combo\nBrisket Sandwich on an egg bun – plain or with onions and pickle\nBrisket Tacos – 3 tacos with pico de gallo\, cilantro aioli and avocado\nBrisket Street Tacos – 4 street tacos with cilantro and onion\nBrisket Mac-n-Cheese
URL:https://www.sidetrackeats.com/event/smoked-brisket-2/2024-06-14/
CATEGORIES:SMOKE
END:VEVENT
BEGIN:VEVENT
DTSTART;TZID=America/Los_Angeles:20240620T170000
DTEND;TZID=America/Los_Angeles:20240620T200000
DTSTAMP:20260421T195309
CREATED:20240529T180202Z
LAST-MODIFIED:20250728T211916Z
UID:10000374-1718902800-1718913600@www.sidetrackeats.com
SUMMARY:Smoked Meats!
DESCRIPTION:WHILE SUPPLIES LAST:  \nEvery other Thursday starting at 5pm join us for smoked meats! They are smoked on our giant offset smoker.   \n  \nMenu options: \n\nTri Tip sandwich with pepperjack cheese and onion strings on panini roll with fries\nHalf rack baby back ribs with coleslaw and fries\nPork bell sliders (3) served on Hawaiian roll with coleslaw and fries
URL:https://www.sidetrackeats.com/event/smoked-meats/2024-06-20/
CATEGORIES:SMOKE
END:VEVENT
BEGIN:VEVENT
DTSTART;TZID=America/Los_Angeles:20240628T080000
DTEND;TZID=America/Los_Angeles:20240628T170000
DTSTAMP:20260421T195309
CREATED:20240529T180930Z
LAST-MODIFIED:20250728T211916Z
UID:10000388-1719561600-1719594000@www.sidetrackeats.com
SUMMARY:Smoked Brisket!
DESCRIPTION:IT’S BACK!  \nWHILE SUPPLIES LAST: Every other Friday starting at 11am join us for smoked brisket! It is smoked on our giant offset smoker.   \n  \nMenu options: \n\nBrisket 1/2 – 2 pounds at your table or to go! Choice of “the point” (fattier) or “the flat” (leaner) or combo\nBrisket Sandwich on an egg bun – plain or with onions and pickle\nBrisket Tacos – 3 tacos with pico de gallo\, cilantro aioli and avocado\nBrisket Street Tacos – 4 street tacos with cilantro and onion\nBrisket Mac-n-Cheese
URL:https://www.sidetrackeats.com/event/smoked-brisket-2/2024-06-28/
CATEGORIES:SMOKE
END:VEVENT
END:VCALENDAR