BEGIN:VCALENDAR
VERSION:2.0
PRODID:-//SideTrack Bar + Grill - ECPv6.15.20//NONSGML v1.0//EN
CALSCALE:GREGORIAN
METHOD:PUBLISH
X-ORIGINAL-URL:https://www.sidetrackeats.com
X-WR-CALDESC:Events for SideTrack Bar + Grill
REFRESH-INTERVAL;VALUE=DURATION:PT1H
X-Robots-Tag:noindex
X-PUBLISHED-TTL:PT1H
BEGIN:VTIMEZONE
TZID:America/Los_Angeles
BEGIN:DAYLIGHT
TZOFFSETFROM:-0800
TZOFFSETTO:-0700
TZNAME:PDT
DTSTART:20230312T100000
END:DAYLIGHT
BEGIN:STANDARD
TZOFFSETFROM:-0700
TZOFFSETTO:-0800
TZNAME:PST
DTSTART:20231105T090000
END:STANDARD
BEGIN:DAYLIGHT
TZOFFSETFROM:-0800
TZOFFSETTO:-0700
TZNAME:PDT
DTSTART:20240310T100000
END:DAYLIGHT
BEGIN:STANDARD
TZOFFSETFROM:-0700
TZOFFSETTO:-0800
TZNAME:PST
DTSTART:20241103T090000
END:STANDARD
BEGIN:DAYLIGHT
TZOFFSETFROM:-0800
TZOFFSETTO:-0700
TZNAME:PDT
DTSTART:20250309T100000
END:DAYLIGHT
BEGIN:STANDARD
TZOFFSETFROM:-0700
TZOFFSETTO:-0800
TZNAME:PST
DTSTART:20251102T090000
END:STANDARD
END:VTIMEZONE
BEGIN:VEVENT
DTSTART;VALUE=DATE:20240704
DTEND;VALUE=DATE:20240705
DTSTAMP:20260421T181545
CREATED:20240611T173346Z
LAST-MODIFIED:20240611T173346Z
UID:10000393-1720051200-1720137599@www.sidetrackeats.com
SUMMARY:CLOSED for 4th of July
DESCRIPTION:
URL:https://www.sidetrackeats.com/event/closed-for-4th-of-july/
CATEGORIES:Special Hours
END:VEVENT
BEGIN:VEVENT
DTSTART;TZID=America/Los_Angeles:20240709T170000
DTEND;TZID=America/Los_Angeles:20240709T190000
DTSTAMP:20260421T181545
CREATED:20240614T174732Z
LAST-MODIFIED:20240614T180250Z
UID:10000365-1720544400-1720551600@www.sidetrackeats.com
SUMMARY:Boozy Book Fair (ticketed event)
DESCRIPTION:SideTrack is collaborating with Towne Center Books and Primrose bakery for a fun boozy book fair event. Join us and enjoy wine and small plates while shopping books\, games and gifts! Tickets ($25) can be purchased at boozy bookfair Tickets\, Tue\, Jul 9\, 2024 at 5:00 PM | Eventbrite.
URL:https://www.sidetrackeats.com/event/boozy-book-fair-ticketed-event/
CATEGORIES:Wine + Food
END:VEVENT
BEGIN:VEVENT
DTSTART;VALUE=DATE:20240714
DTEND;VALUE=DATE:20240715
DTSTAMP:20260421T181545
CREATED:20240713T014820Z
LAST-MODIFIED:20240713T014820Z
UID:10000394-1720915200-1721001599@www.sidetrackeats.com
SUMMARY:Euro and Copa Soccer Finals: 12pm and 5pm
DESCRIPTION:Join us for the European and Copa America soccer finals!
URL:https://www.sidetrackeats.com/event/euro-and-copa-soccer-finals-12pm-and-5pm/
CATEGORIES:Event
ATTACH;FMTTYPE=image/jpeg:https://www.sidetrackeats.com/wp-content/uploads/euro.jpg
END:VEVENT
END:VCALENDAR