BEGIN:VCALENDAR
VERSION:2.0
PRODID:-//SideTrack Bar + Grill - ECPv6.15.20//NONSGML v1.0//EN
CALSCALE:GREGORIAN
METHOD:PUBLISH
X-WR-CALNAME:SideTrack Bar + Grill
X-ORIGINAL-URL:https://www.sidetrackeats.com
X-WR-CALDESC:Events for SideTrack Bar + Grill
REFRESH-INTERVAL;VALUE=DURATION:PT1H
X-Robots-Tag:noindex
X-PUBLISHED-TTL:PT1H
BEGIN:VTIMEZONE
TZID:America/Los_Angeles
BEGIN:DAYLIGHT
TZOFFSETFROM:-0800
TZOFFSETTO:-0700
TZNAME:PDT
DTSTART:20230312T100000
END:DAYLIGHT
BEGIN:STANDARD
TZOFFSETFROM:-0700
TZOFFSETTO:-0800
TZNAME:PST
DTSTART:20231105T090000
END:STANDARD
BEGIN:DAYLIGHT
TZOFFSETFROM:-0800
TZOFFSETTO:-0700
TZNAME:PDT
DTSTART:20240310T100000
END:DAYLIGHT
BEGIN:STANDARD
TZOFFSETFROM:-0700
TZOFFSETTO:-0800
TZNAME:PST
DTSTART:20241103T090000
END:STANDARD
BEGIN:DAYLIGHT
TZOFFSETFROM:-0800
TZOFFSETTO:-0700
TZNAME:PDT
DTSTART:20250309T100000
END:DAYLIGHT
BEGIN:STANDARD
TZOFFSETFROM:-0700
TZOFFSETTO:-0800
TZNAME:PST
DTSTART:20251102T090000
END:STANDARD
END:VTIMEZONE
BEGIN:VEVENT
DTSTART;TZID=America/Los_Angeles:20241205T170000
DTEND;TZID=America/Los_Angeles:20241205T190000
DTSTAMP:20260421T122509
CREATED:20241108T222348Z
LAST-MODIFIED:20241119T201920Z
UID:10000461-1733418000-1733425200@www.sidetrackeats.com
SUMMARY:Book Signing with Cam Inman\, Sportswriter for the 49ers & NFL
DESCRIPTION:Join us for a book signing with Cam Inman while watching football!  \n  \nBio: \nCam Inman is a Bay Area native who’s lived in Pleasanton since 1995. He grew up in Cupertino with the dream of becoming a sportswriter. This is his 25th season covering the San Francisco 49ers and the NFL for the Bay Area News Group\, which includes the East Bay Times and San Jose Mercury News\, a newspaper he used to deliver on his bicycle as a pre-teen. \nHis second book\, The Franchise: San Francisco 49ers\, officially came out on Sept. 24 by Triumph Books. It covers the team’s history and legends through his exclusive interviews and eyewitness accounts. \nCam and his wife\, Jennifer Branchini\, have raised three children in her native Pleasanton\, including daughters currently attending UCLA Law and Point Loma Nazarene University\, and a son who is a junior at Amador Valley High. Cam is also a licensed Realtor for Compass’ Pleasanton office. He enjoys golfing\, running\, supporting local restaurants\, and sampling IPAs from coast to coast.
URL:https://www.sidetrackeats.com/event/book-signing-with-cam-inman-sportswriter-for-49ers-nfl/
LOCATION:SideTrack Bar+Grill 
CATEGORIES:Event,NFL
ATTACH;FMTTYPE=image/png:https://www.sidetrackeats.com/wp-content/uploads/Special-Event-v2.png
END:VEVENT
BEGIN:VEVENT
DTSTART;TZID=America/Los_Angeles:20241205T170000
DTEND;TZID=America/Los_Angeles:20241205T210000
DTSTAMP:20260421T122509
CREATED:20241202T000333Z
LAST-MODIFIED:20250728T211916Z
UID:10000476-1733418000-1733432400@www.sidetrackeats.com
SUMMARY:Smoked Trio!
DESCRIPTION:WHILE SUPPLIES LAST:  \nEvery other Thursday starting at 5pm join us for smoked meats! They are smoked on our giant offset smoker.   \n  \nMenu options: \n\nTri Tip sandwich with pepperjack cheese and onion strings on panini roll with fries (ready at lunch time!)\nHalf rack baby back ribs with coleslaw and fries\nPork bell sliders (3) served on Hawaiian roll with coleslaw and fries
URL:https://www.sidetrackeats.com/event/smoked-trio-3/2024-12-05/
CATEGORIES:SMOKE
END:VEVENT
BEGIN:VEVENT
DTSTART;TZID=America/Los_Angeles:20241206T160000
DTEND;TZID=America/Los_Angeles:20241206T210000
DTSTAMP:20260421T122509
CREATED:20241114T160911Z
LAST-MODIFIED:20241203T001728Z
UID:10000467-1733500800-1733518800@www.sidetrackeats.com
SUMMARY:CLOSING at 4pm - Private Event
DESCRIPTION:
URL:https://www.sidetrackeats.com/event/closed-starting-at-3pm-private-event/
LOCATION:SideTrack Bar+Grill 
CATEGORIES:Special Hours
END:VEVENT
BEGIN:VEVENT
DTSTART;TZID=America/Los_Angeles:20241212T170000
DTEND;TZID=America/Los_Angeles:20241212T210000
DTSTAMP:20260421T122509
CREATED:20241202T000851Z
LAST-MODIFIED:20250728T211916Z
UID:10000480-1734022800-1734037200@www.sidetrackeats.com
SUMMARY:Smoked Tri Tip & Chicken  Thighs
DESCRIPTION:WHILE SUPPLIES LAST:  \nEvery other Thursday starting at 5pm join us for smoked meats! They are smoked on our giant offset smoker.   \n  \nMenu options: \n\nTri Tip sandwich with pepperjack cheese and onion strings on panini roll with fries\nChicken thighs with garlic mashed potatoes and veggies
URL:https://www.sidetrackeats.com/event/smoked-tri-tip-chicken-thighs/
CATEGORIES:SMOKE
END:VEVENT
BEGIN:VEVENT
DTSTART;TZID=America/Los_Angeles:20241214T170000
DTEND;TZID=America/Los_Angeles:20241214T200000
DTSTAMP:20260421T122509
CREATED:20241119T203336Z
LAST-MODIFIED:20241203T183025Z
UID:10000473-1734195600-1734206400@www.sidetrackeats.com
SUMMARY:Spirit and Sweater Stroll
DESCRIPTION:SideTrack will be participating in Pleasanton’s Spirit and Sweater Stroll! Get into the holiday spirit by wearing your favorite festive sweater and strolling through downtown Pleasanton.
URL:https://www.sidetrackeats.com/event/spiritandsweaterstroll/
CATEGORIES:Downtown Pleasanton Events
ATTACH;FMTTYPE=image/png:https://www.sidetrackeats.com/wp-content/uploads/ST-Ornament.png
END:VEVENT
BEGIN:VEVENT
DTSTART;TZID=America/Los_Angeles:20241216T170000
DTEND;TZID=America/Los_Angeles:20241216T200000
DTSTAMP:20260421T122509
CREATED:20241108T233238Z
LAST-MODIFIED:20241119T001047Z
UID:10000463-1734368400-1734379200@www.sidetrackeats.com
SUMMARY:Amador Valley HS Class of 2025 Fundraiser
DESCRIPTION:Join us for dine in or take out\, mention the Amador Valley Class of 2025 Fundraiser from 5pm to 8pm and SideTrack  \nwill donate a portion of the proceeds from your purchase. \n  \n 
URL:https://www.sidetrackeats.com/event/amador-valley-hs-class-of-2025fundraiser/
CATEGORIES:Community Fundraisers
END:VEVENT
BEGIN:VEVENT
DTSTART;TZID=America/Los_Angeles:20241219T170000
DTEND;TZID=America/Los_Angeles:20241219T210000
DTSTAMP:20260421T122509
CREATED:20241202T000333Z
LAST-MODIFIED:20250728T211916Z
UID:10000482-1734627600-1734642000@www.sidetrackeats.com
SUMMARY:Smoked Trio!
DESCRIPTION:WHILE SUPPLIES LAST:  \nEvery other Thursday starting at 5pm join us for smoked meats! They are smoked on our giant offset smoker.   \n  \nMenu options: \n\nTri Tip sandwich with pepperjack cheese and onion strings on panini roll with fries (ready at lunch time!)\nHalf rack baby back ribs with coleslaw and fries\nPork bell sliders (3) served on Hawaiian roll with coleslaw and fries
URL:https://www.sidetrackeats.com/event/smoked-trio-3/2024-12-19/
CATEGORIES:SMOKE
END:VEVENT
BEGIN:VEVENT
DTSTART;VALUE=DATE:20241224
DTEND;VALUE=DATE:20241225
DTSTAMP:20260421T122509
CREATED:20241119T001923Z
LAST-MODIFIED:20241220T213137Z
UID:10000471-1734998400-1735084799@www.sidetrackeats.com
SUMMARY:CLOSED (BAU Tuesday)
DESCRIPTION:Merry Christmas Eve!
URL:https://www.sidetrackeats.com/event/closing-at-2pm/
LOCATION:SideTrack Bar+Grill 
CATEGORIES:Special Hours
ATTACH;FMTTYPE=image/png:https://www.sidetrackeats.com/wp-content/uploads/Christmas-Calendar.png
END:VEVENT
BEGIN:VEVENT
DTSTART;VALUE=DATE:20241225
DTEND;VALUE=DATE:20241227
DTSTAMP:20260421T122509
CREATED:20241119T001502Z
LAST-MODIFIED:20241220T213022Z
UID:10000470-1735088400-1735174799@www.sidetrackeats.com
SUMMARY:CLOSED for Christmas
DESCRIPTION:Merry Christmas!
URL:https://www.sidetrackeats.com/event/closed-for-christmas/
CATEGORIES:Special Hours
ATTACH;FMTTYPE=image/png:https://www.sidetrackeats.com/wp-content/uploads/Christmas-Calendar.png
END:VEVENT
BEGIN:VEVENT
DTSTART;TZID=America/Los_Angeles:20241226T160000
DTEND;TZID=America/Los_Angeles:20241226T210000
DTSTAMP:20260421T122509
CREATED:20241119T001328Z
LAST-MODIFIED:20241120T010957Z
UID:10000469-1735228800-1735246800@www.sidetrackeats.com
SUMMARY:OPENING at 4pm
DESCRIPTION:We are thankful for your continued support! 
URL:https://www.sidetrackeats.com/event/opening-at-4pm-2/
LOCATION:SideTrack Bar+Grill 
CATEGORIES:Special Hours
ATTACH;FMTTYPE=image/png:https://www.sidetrackeats.com/wp-content/uploads/Christmas-Calendar.png
END:VEVENT
BEGIN:VEVENT
DTSTART;TZID=America/Los_Angeles:20241226T170000
DTEND;TZID=America/Los_Angeles:20241226T210000
DTSTAMP:20260421T122509
CREATED:20241226T183207Z
LAST-MODIFIED:20250728T211916Z
UID:10000483-1735232400-1735246800@www.sidetrackeats.com
SUMMARY:Smoked Tri Tip
DESCRIPTION:WHILE SUPPLIES LAST:  \nEvery other Thursday starting at 5pm join us for smoked meats! They are smoked on our giant offset smoker.   \n  \nMenu options: \n\nTri Tip sandwich with pepperjack cheese and onion strings on panini roll with fries
URL:https://www.sidetrackeats.com/event/smoked-tri-tip-chicken-thighs-2/
CATEGORIES:SMOKE
END:VEVENT
BEGIN:VEVENT
DTSTART;TZID=America/Los_Angeles:20241231T170000
DTEND;TZID=America/Los_Angeles:20241231T220000
DTSTAMP:20260421T122509
CREATED:20241119T202833Z
LAST-MODIFIED:20241130T192613Z
UID:10000472-1735664400-1735682400@www.sidetrackeats.com
SUMMARY:New Years Eve Party - East Coast Time
DESCRIPTION:Our annual East Coast New Year’s Eve celebration is back! Call to reserve your seats as we count down to 2025 on December 31st with reservations at 5pm and 7pm. Email todd@sidetrackeats.com or call us 925-399-6789.
URL:https://www.sidetrackeats.com/event/new-years-eve-party-eastcoasttime/
CATEGORIES:Event,Special Hours
ATTACH;FMTTYPE=image/png:https://www.sidetrackeats.com/wp-content/uploads/New-Years-Hours-v2-Calendar.png
END:VEVENT
END:VCALENDAR