BEGIN:VCALENDAR
VERSION:2.0
PRODID:-//SideTrack Bar + Grill - ECPv6.15.20//NONSGML v1.0//EN
CALSCALE:GREGORIAN
METHOD:PUBLISH
X-ORIGINAL-URL:https://www.sidetrackeats.com
X-WR-CALDESC:Events for SideTrack Bar + Grill
REFRESH-INTERVAL;VALUE=DURATION:PT1H
X-Robots-Tag:noindex
X-PUBLISHED-TTL:PT1H
BEGIN:VTIMEZONE
TZID:America/Los_Angeles
BEGIN:DAYLIGHT
TZOFFSETFROM:-0800
TZOFFSETTO:-0700
TZNAME:PDT
DTSTART:20240310T100000
END:DAYLIGHT
BEGIN:STANDARD
TZOFFSETFROM:-0700
TZOFFSETTO:-0800
TZNAME:PST
DTSTART:20241103T090000
END:STANDARD
BEGIN:DAYLIGHT
TZOFFSETFROM:-0800
TZOFFSETTO:-0700
TZNAME:PDT
DTSTART:20250309T100000
END:DAYLIGHT
BEGIN:STANDARD
TZOFFSETFROM:-0700
TZOFFSETTO:-0800
TZNAME:PST
DTSTART:20251102T090000
END:STANDARD
BEGIN:DAYLIGHT
TZOFFSETFROM:-0800
TZOFFSETTO:-0700
TZNAME:PDT
DTSTART:20260308T100000
END:DAYLIGHT
BEGIN:STANDARD
TZOFFSETFROM:-0700
TZOFFSETTO:-0800
TZNAME:PST
DTSTART:20261101T090000
END:STANDARD
END:VTIMEZONE
BEGIN:VEVENT
DTSTART;TZID=America/Los_Angeles:20250304T180000
DTEND;TZID=America/Los_Angeles:20250304T200000
DTSTAMP:20260421T071405
CREATED:20250201T200614Z
LAST-MODIFIED:20250304T210232Z
UID:10000508-1741111200-1741118400@www.sidetrackeats.com
SUMMARY:Whiskey Taste Talk with Big Frank - Ticketed Event
DESCRIPTION:Join us for an educational Whiskey Tasting paired with our most popular shared plates!\nCome take a trip through the Garden of Ireland with Glendalough which has been voted Best Irish distiller three years running.\n \nAnd taste some of the World’s best Whiskey with your guide Master of Wine and Spirit\, “Big” Frank Jakubka.\nThe night will feature seven different spirits and the history of Whiskey you never knew existed.\n \n 
URL:https://www.sidetrackeats.com/event/whiskey-taste-talk-ticketed-event/
CATEGORIES:Taste Talks
END:VEVENT
BEGIN:VEVENT
DTSTART;TZID=America/Los_Angeles:20250311T170000
DTEND;TZID=America/Los_Angeles:20250311T210000
DTSTAMP:20260421T071405
CREATED:20250201T201833Z
LAST-MODIFIED:20250310T224009Z
UID:10000509-1741712400-1741726800@www.sidetrackeats.com
SUMMARY:Poker Tournament: Foothill Athletic Boosters Fundraiser - Ticketed Event
DESCRIPTION:Join us at SideTrack for a poker tournament!  This event is a fundraiser for Foothill Athletic Boosters. \n$150 ticket includes tournament play\, food and a great time!! \nBuy a 4 pack of tickets at a discounted price of $500!! \n \n 
URL:https://www.sidetrackeats.com/event/poker-tournament-foothillhsboosters-fundraiser/
LOCATION:SideTrack Bar+Grill 
CATEGORIES:Community Fundraisers,Poker Tournament
ATTACH;FMTTYPE=image/png:https://www.sidetrackeats.com/wp-content/uploads/Poker-Tournament-Calendar-1.png
END:VEVENT
BEGIN:VEVENT
DTSTART;TZID=America/Los_Angeles:20250313T110000
DTEND;TZID=America/Los_Angeles:20250313T210000
DTSTAMP:20260421T071405
CREATED:20250310T230028Z
LAST-MODIFIED:20250728T211915Z
UID:10000519-1741863600-1741899600@www.sidetrackeats.com
SUMMARY:Smoked Trio! (while supplies last)
DESCRIPTION:WHILE SUPPLIES LAST:  \nEvery other Thursday starting at 11 pm join us for smoked meats! They are smoked on our giant offset smoker.   \n  \nMenu options: \n\nTri Tip sandwich with pepperjack cheese and onion strings on panini roll with fries or a side salad (ready at 11 am)\nHalf rack baby back ribs with coleslaw and fries or a side salad (ready at 5pm)\nPork bell sliders (3) served on Hawaiian roll with coleslaw and fries or a side salad (ready at 5pm)
URL:https://www.sidetrackeats.com/event/smoked-trio-while-supplies-last-2/2025-03-13/
CATEGORIES:SMOKE
END:VEVENT
BEGIN:VEVENT
DTSTART;TZID=America/Los_Angeles:20250313T163000
DTEND;TZID=America/Los_Angeles:20250313T200000
DTSTAMP:20260421T071405
CREATED:20250311T174604Z
LAST-MODIFIED:20250311T174706Z
UID:10000521-1741883400-1741896000@www.sidetrackeats.com
SUMMARY:Mr. Amador - Tips for Change Fundraiser
DESCRIPTION:Join us in supporting Mr. Amador. This is a fundraiser for George Mark Children’s Hospital.
URL:https://www.sidetrackeats.com/event/mr-amador-tips-for-change-fundraiser-2/
CATEGORIES:Community Fundraisers
ATTACH;FMTTYPE=image/png:https://www.sidetrackeats.com/wp-content/uploads/Amador-Fundraiser-Calendar.png
END:VEVENT
BEGIN:VEVENT
DTSTART;TZID=America/Los_Angeles:20250315T170000
DTEND;TZID=America/Los_Angeles:20250315T200000
DTSTAMP:20260421T071405
CREATED:20250212T235933Z
LAST-MODIFIED:20250213T000059Z
UID:10000514-1742058000-1742068800@www.sidetrackeats.com
SUMMARY:St. Patrick's Day Brew Crawl
DESCRIPTION:SideTrack will be participating in the Pleasanton sponsored event – St. Patrick’s Day Brew Crawl
URL:https://www.sidetrackeats.com/event/st-patricks-day-brew-crawl-2/
CATEGORIES:Downtown Pleasanton Events
END:VEVENT
BEGIN:VEVENT
DTSTART;TZID=America/Los_Angeles:20250318T173000
DTEND;TZID=America/Los_Angeles:20250318T210000
DTSTAMP:20260421T071405
CREATED:20250202T165720Z
LAST-MODIFIED:20250318T173139Z
UID:10000510-1742319000-1742331600@www.sidetrackeats.com
SUMMARY:Poker Tournament: Amador Valley Athletic Boosters Fundraiser - TICKET PRICE REDUCED!
DESCRIPTION:Join us at SideTrack for a poker tournament!  This event is a fundraiser for Amador Valley Athletic Boosters. \n$100 ticket includes tournament play\, food and a great time!! Doors open at 5:30 and cards start at 6:30! \n  \n  \n 
URL:https://www.sidetrackeats.com/event/poker-tournament-amador-athletic-boosters-fundraiser-ticketed-event/
LOCATION:SideTrack Bar+Grill 
CATEGORIES:Community Fundraisers,Poker Tournament
ATTACH;FMTTYPE=image/png:https://www.sidetrackeats.com/wp-content/uploads/Poker-Tournament-Calendar-1.png
END:VEVENT
BEGIN:VEVENT
DTSTART;TZID=America/Los_Angeles:20250321T110000
DTEND;TZID=America/Los_Angeles:20250321T210000
DTSTAMP:20260421T071405
CREATED:20250203T231932Z
LAST-MODIFIED:20250728T211828Z
UID:10000512-1742554800-1742590800@www.sidetrackeats.com
SUMMARY:Smoked Brisket! IT'S BACK!!
DESCRIPTION:IT’S BACK!  \nWHILE SUPPLIES LAST: Every other Friday starting at 11am join us for smoked brisket! It is smoked on our giant offset smoker.   \n  \nMenu options: \n\nBrisket 1/2 – 2 pounds at your table or to go! Choice of “the point” (fattier) or “the flat” (leaner) or combo\nBrisket Sandwich on an egg bun – plain or with onions and pickle\nBrisket Tacos – 3 tacos with pico de gallo\, cilantro aioli and avocado\nBrisket Street Tacos – 4 street tacos with cilantro and onion\nBrisket Mac-n-Cheese
URL:https://www.sidetrackeats.com/event/smoked-brisket-2025/
CATEGORIES:SMOKE
END:VEVENT
BEGIN:VEVENT
DTSTART;TZID=America/Los_Angeles:20250327T110000
DTEND;TZID=America/Los_Angeles:20250327T210000
DTSTAMP:20260421T071405
CREATED:20250310T230028Z
LAST-MODIFIED:20250728T211915Z
UID:10000520-1743073200-1743109200@www.sidetrackeats.com
SUMMARY:Smoked Trio! (while supplies last)
DESCRIPTION:WHILE SUPPLIES LAST:  \nEvery other Thursday starting at 11 pm join us for smoked meats! They are smoked on our giant offset smoker.   \n  \nMenu options: \n\nTri Tip sandwich with pepperjack cheese and onion strings on panini roll with fries or a side salad (ready at 11 am)\nHalf rack baby back ribs with coleslaw and fries or a side salad (ready at 5pm)\nPork bell sliders (3) served on Hawaiian roll with coleslaw and fries or a side salad (ready at 5pm)
URL:https://www.sidetrackeats.com/event/smoked-trio-while-supplies-last-2/2025-03-27/
CATEGORIES:SMOKE
END:VEVENT
END:VCALENDAR