BEGIN:VCALENDAR
VERSION:2.0
PRODID:-//SideTrack Bar + Grill - ECPv6.15.20//NONSGML v1.0//EN
CALSCALE:GREGORIAN
METHOD:PUBLISH
X-WR-CALNAME:SideTrack Bar + Grill
X-ORIGINAL-URL:https://www.sidetrackeats.com
X-WR-CALDESC:Events for SideTrack Bar + Grill
REFRESH-INTERVAL;VALUE=DURATION:PT1H
X-Robots-Tag:noindex
X-PUBLISHED-TTL:PT1H
BEGIN:VTIMEZONE
TZID:America/Los_Angeles
BEGIN:DAYLIGHT
TZOFFSETFROM:-0800
TZOFFSETTO:-0700
TZNAME:PDT
DTSTART:20240310T100000
END:DAYLIGHT
BEGIN:STANDARD
TZOFFSETFROM:-0700
TZOFFSETTO:-0800
TZNAME:PST
DTSTART:20241103T090000
END:STANDARD
BEGIN:DAYLIGHT
TZOFFSETFROM:-0800
TZOFFSETTO:-0700
TZNAME:PDT
DTSTART:20250309T100000
END:DAYLIGHT
BEGIN:STANDARD
TZOFFSETFROM:-0700
TZOFFSETTO:-0800
TZNAME:PST
DTSTART:20251102T090000
END:STANDARD
BEGIN:DAYLIGHT
TZOFFSETFROM:-0800
TZOFFSETTO:-0700
TZNAME:PDT
DTSTART:20260308T100000
END:DAYLIGHT
BEGIN:STANDARD
TZOFFSETFROM:-0700
TZOFFSETTO:-0800
TZNAME:PST
DTSTART:20261101T090000
END:STANDARD
END:VTIMEZONE
BEGIN:VEVENT
DTSTART;TZID=America/Los_Angeles:20250501T110000
DTEND;TZID=America/Los_Angeles:20250501T210000
DTSTAMP:20260421T043337
CREATED:20250414T181941Z
LAST-MODIFIED:20250728T211741Z
UID:10000534-1746097200-1746133200@www.sidetrackeats.com
SUMMARY:Smoked Tri Tip & Chicken Thighs (while supplies last)
DESCRIPTION:WHILE SUPPLIES LAST:  \nEvery other Thursday starting at 5pm join us for smoked meats! They are smoked on our giant offset smoker.   \n  \nMenu options: \n\nTri Tip sandwich with pepperjack cheese and onion strings on panini roll with fries or a side salad\nTwo boneless chicken thighs with coleslaw and fries or a side salad (substitute smoked thighs on any chicken sandwich +$2)
URL:https://www.sidetrackeats.com/event/smoked-tri-tip-chicken-thighs-while-supplies-last-3/2025-05-01/
CATEGORIES:SMOKE
END:VEVENT
BEGIN:VEVENT
DTSTART;TZID=America/Los_Angeles:20250509T110000
DTEND;TZID=America/Los_Angeles:20250509T210000
DTSTAMP:20260421T043337
CREATED:20250414T182235Z
LAST-MODIFIED:20250728T211712Z
UID:10000539-1746788400-1746824400@www.sidetrackeats.com
SUMMARY:Smoked Brisket!
DESCRIPTION:IT’S BACK!  \nWHILE SUPPLIES LAST: Every other Friday starting at 11am join us for smoked brisket! It is smoked on our giant offset smoker.   \n  \nMenu options: \n\nBrisket 1/2 – 2 pounds at your table or to go! Choice of “the point” (fattier) or “the flat” (leaner) or combo\nBrisket Sandwich on an egg bun – plain or with onions and pickle\nBrisket Tacos – 3 tacos with pico de gallo\, cilantro aioli and avocado\nBrisket Street Tacos – 4 street tacos with cilantro and onion\nBrisket Mac-n-Cheese
URL:https://www.sidetrackeats.com/event/smoked-brisket-6/2025-05-09/
CATEGORIES:SMOKE
END:VEVENT
BEGIN:VEVENT
DTSTART;TZID=America/Los_Angeles:20250511T100000
DTEND;TZID=America/Los_Angeles:20250511T130000
DTSTAMP:20260421T043337
CREATED:20250415T213738Z
LAST-MODIFIED:20250505T211305Z
UID:10000541-1746957600-1746968400@www.sidetrackeats.com
SUMMARY:Mother's Day Brunch - reservations recommended
DESCRIPTION:Join us for Mother’s Day Brunch. Breakfast menu\, Omelet station and regular menu. Reservations recommended.
URL:https://www.sidetrackeats.com/event/mothers-day-brunch-2025/
CATEGORIES:Event
ATTACH;FMTTYPE=image/png:https://www.sidetrackeats.com/wp-content/uploads/Mothers-Day-Calendar.png
END:VEVENT
BEGIN:VEVENT
DTSTART;TZID=America/Los_Angeles:20250513T183000
DTEND;TZID=America/Los_Angeles:20250513T203000
DTSTAMP:20260421T043337
CREATED:20250315T225019Z
LAST-MODIFIED:20250505T211325Z
UID:10000523-1747161000-1747168200@www.sidetrackeats.com
SUMMARY:Wine & Food Tasting Affair (Ticketed Event)
DESCRIPTION:Join SideTrack\, Wine Steward and Primrose Bakery for a great night out! \nA walk around event sampling more than 25 hand selected wines with SideTrack’s most popular appetizers and Primrose’s baked treats. \nLocation: SideTrack Bar+Grill \nTickets: $55 (limited availability) \nPurchase tickets @ Sidetrack Event 2025 | The Wine Steward
URL:https://www.sidetrackeats.com/event/wine-food-tasting-affair-ticketed-event-2025/
LOCATION:SideTrack Bar+Grill 
CATEGORIES:Wine + Food
ATTACH;FMTTYPE=image/png:https://www.sidetrackeats.com/wp-content/uploads/Wine-Steward-with-Primrose-Calendar.png
END:VEVENT
BEGIN:VEVENT
DTSTART;TZID=America/Los_Angeles:20250515T110000
DTEND;TZID=America/Los_Angeles:20250515T210000
DTSTAMP:20260421T043337
CREATED:20250414T182056Z
LAST-MODIFIED:20250728T211721Z
UID:10000536-1747306800-1747342800@www.sidetrackeats.com
SUMMARY:Smoked Trio! (while supplies last)
DESCRIPTION:WHILE SUPPLIES LAST:  \nEvery other Thursday starting at 11 pm join us for smoked meats! They are smoked on our giant offset smoker.   \n  \nMenu options: \n\nTri Tip sandwich with pepperjack cheese and onion strings on panini roll with fries or a side salad (ready at 11 am)\nHalf rack baby back ribs with coleslaw and fries or a side salad (ready at 5pm)\nPork bell sliders (3) served on Hawaiian roll with coleslaw and fries or a side salad (ready at 5pm)
URL:https://www.sidetrackeats.com/event/smoked-trio-while-supplies-last-4/
CATEGORIES:SMOKE
END:VEVENT
BEGIN:VEVENT
DTSTART;TZID=America/Los_Angeles:20250519T183000
DTEND;TZID=America/Los_Angeles:20250519T203000
DTSTAMP:20260421T043337
CREATED:20250412T220147Z
LAST-MODIFIED:20260318T004727Z
UID:10000532-1747679400-1747686600@www.sidetrackeats.com
SUMMARY:Singo (bingo but with music) - No singing involved\, prizes & FREE!
DESCRIPTION:Join us for some fun on a Monday night! Do you like bingo? Well\, it just got better with music! Don’t know titles… there’s an app for that! We have the bingo cards\, the dopplers and the music. Just bring your hungry tummy! \nThe restaurant will be open business as usual. If you choose to not play\, no problem we will have the patios open for non players. \nA bit more detail: You will have your Singo card and your doppler. The host will play 30 seconds of a song and you will search for the title of that song on your Singo card. If you’re not sure of the title\, you can use an application on your phone (shhhh\, its not cheating)
URL:https://www.sidetrackeats.com/event/singo/
LOCATION:SideTrack Bar+Grill 
CATEGORIES:Event,Singo
END:VEVENT
BEGIN:VEVENT
DTSTART;TZID=America/Los_Angeles:20250523T110000
DTEND;TZID=America/Los_Angeles:20250523T210000
DTSTAMP:20260421T043337
CREATED:20250414T182235Z
LAST-MODIFIED:20250728T211712Z
UID:10000540-1747998000-1748034000@www.sidetrackeats.com
SUMMARY:Smoked Brisket!
DESCRIPTION:IT’S BACK!  \nWHILE SUPPLIES LAST: Every other Friday starting at 11am join us for smoked brisket! It is smoked on our giant offset smoker.   \n  \nMenu options: \n\nBrisket 1/2 – 2 pounds at your table or to go! Choice of “the point” (fattier) or “the flat” (leaner) or combo\nBrisket Sandwich on an egg bun – plain or with onions and pickle\nBrisket Tacos – 3 tacos with pico de gallo\, cilantro aioli and avocado\nBrisket Street Tacos – 4 street tacos with cilantro and onion\nBrisket Mac-n-Cheese
URL:https://www.sidetrackeats.com/event/smoked-brisket-6/2025-05-23/
CATEGORIES:SMOKE
END:VEVENT
BEGIN:VEVENT
DTSTART;TZID=America/Los_Angeles:20250526T160000
DTEND;TZID=America/Los_Angeles:20250526T210000
DTSTAMP:20260421T043337
CREATED:20250525T231238Z
LAST-MODIFIED:20250525T231356Z
UID:10000549-1748275200-1748293200@www.sidetrackeats.com
SUMMARY:CLOSING at 4:00pm - Private Event
DESCRIPTION:For information about renting patios or the entire restaurant\, email us at todd@sidetrackteats.com
URL:https://www.sidetrackeats.com/event/closing-at-400pm-private-event/
LOCATION:SideTrack Bar+Grill 
CATEGORIES:Special Hours
END:VEVENT
BEGIN:VEVENT
DTSTART;TZID=America/Los_Angeles:20250529T110000
DTEND;TZID=America/Los_Angeles:20250529T210000
DTSTAMP:20260421T043337
CREATED:20250414T181941Z
LAST-MODIFIED:20250728T211741Z
UID:10000535-1748516400-1748552400@www.sidetrackeats.com
SUMMARY:Smoked Tri Tip & Chicken Thighs (while supplies last)
DESCRIPTION:WHILE SUPPLIES LAST:  \nEvery other Thursday starting at 5pm join us for smoked meats! They are smoked on our giant offset smoker.   \n  \nMenu options: \n\nTri Tip sandwich with pepperjack cheese and onion strings on panini roll with fries or a side salad\nTwo boneless chicken thighs with coleslaw and fries or a side salad (substitute smoked thighs on any chicken sandwich +$2)
URL:https://www.sidetrackeats.com/event/smoked-tri-tip-chicken-thighs-while-supplies-last-3/2025-05-29/
CATEGORIES:SMOKE
END:VEVENT
END:VCALENDAR