BEGIN:VCALENDAR
VERSION:2.0
PRODID:-//SideTrack Bar + Grill - ECPv6.15.20//NONSGML v1.0//EN
CALSCALE:GREGORIAN
METHOD:PUBLISH
X-ORIGINAL-URL:https://www.sidetrackeats.com
X-WR-CALDESC:Events for SideTrack Bar + Grill
REFRESH-INTERVAL;VALUE=DURATION:PT1H
X-Robots-Tag:noindex
X-PUBLISHED-TTL:PT1H
BEGIN:VTIMEZONE
TZID:America/Los_Angeles
BEGIN:DAYLIGHT
TZOFFSETFROM:-0800
TZOFFSETTO:-0700
TZNAME:PDT
DTSTART:20220313T100000
END:DAYLIGHT
BEGIN:STANDARD
TZOFFSETFROM:-0700
TZOFFSETTO:-0800
TZNAME:PST
DTSTART:20221106T090000
END:STANDARD
BEGIN:DAYLIGHT
TZOFFSETFROM:-0800
TZOFFSETTO:-0700
TZNAME:PDT
DTSTART:20230312T100000
END:DAYLIGHT
BEGIN:STANDARD
TZOFFSETFROM:-0700
TZOFFSETTO:-0800
TZNAME:PST
DTSTART:20231105T090000
END:STANDARD
BEGIN:DAYLIGHT
TZOFFSETFROM:-0800
TZOFFSETTO:-0700
TZNAME:PDT
DTSTART:20240310T100000
END:DAYLIGHT
BEGIN:STANDARD
TZOFFSETFROM:-0700
TZOFFSETTO:-0800
TZNAME:PST
DTSTART:20241103T090000
END:STANDARD
END:VTIMEZONE
BEGIN:VEVENT
DTSTART;TZID=America/Los_Angeles:20231231T200000
DTEND;TZID=America/Los_Angeles:20231231T230000
DTSTAMP:20260421T113630
CREATED:20231204T061808Z
LAST-MODIFIED:20231211T205853Z
UID:10000220-1704052800-1704063600@www.sidetrackeats.com
SUMMARY:New Years Eve Party - East Coast Time
DESCRIPTION:Our annual East Coast New Year’s Eve celebration is back! Call to reserve your seats as we count down to 2024 on December 31 with reservations starting at 7pm. Email todd@sidetrackeats.com or call us 925-399-6789.
URL:https://www.sidetrackeats.com/event/new-years-eve-party-east-coast-time/
CATEGORIES:Event
END:VEVENT
BEGIN:VEVENT
DTSTART;TZID=America/Los_Angeles:20231231T110000
DTEND;TZID=America/Los_Angeles:20231231T140000
DTSTAMP:20260421T113630
CREATED:20231211T205628Z
LAST-MODIFIED:20231211T210300Z
UID:10000226-1704020400-1704031200@www.sidetrackeats.com
SUMMARY:New Year's Eve Brunch (taking reservations)
DESCRIPTION:To make a New Year’s Eve brunch reservation call 925.399.6789
URL:https://www.sidetrackeats.com/event/new-years-eve-brunch-taking-reservations/
CATEGORIES:Event
END:VEVENT
BEGIN:VEVENT
DTSTART;VALUE=DATE:20231225
DTEND;VALUE=DATE:20231227
DTSTAMP:20260421T113630
CREATED:20231204T061439Z
LAST-MODIFIED:20231205T190830Z
UID:10000219-1703466000-1703552399@www.sidetrackeats.com
SUMMARY:CLOSED for Christmas
DESCRIPTION:
URL:https://www.sidetrackeats.com/event/closed-merry-christmas/
CATEGORIES:Special Hours
END:VEVENT
BEGIN:VEVENT
DTSTART;TZID=America/Los_Angeles:20231224T110000
DTEND;TZID=America/Los_Angeles:20231224T140000
DTSTAMP:20260421T113630
CREATED:20231211T205452Z
LAST-MODIFIED:20231211T210137Z
UID:10000225-1703415600-1703426400@www.sidetrackeats.com
SUMMARY:Christmas Eve Brunch (taking reservations)
DESCRIPTION:To make a Christmas Eve brunch reservation call 925.399.6789
URL:https://www.sidetrackeats.com/event/christmas-eve-brunch-taking-reservations/
CATEGORIES:Event
END:VEVENT
BEGIN:VEVENT
DTSTART;TZID=America/Los_Angeles:20231224T100000
DTEND;TZID=America/Los_Angeles:20231224T150000
DTSTAMP:20260421T113630
CREATED:20231201T232059Z
LAST-MODIFIED:20231205T190844Z
UID:10000218-1703412000-1703430000@www.sidetrackeats.com
SUMMARY:CLOSING 2PM Christmas Eve
DESCRIPTION:
URL:https://www.sidetrackeats.com/event/special-hours-closing-at-2pm-christmas-eve/
CATEGORIES:Special Hours
END:VEVENT
BEGIN:VEVENT
DTSTART;TZID=America/Los_Angeles:20231216T180000
DTEND;TZID=America/Los_Angeles:20231216T210000
DTSTAMP:20260421T113630
CREATED:20231201T183007Z
LAST-MODIFIED:20231207T194631Z
UID:10000217-1702749600-1702760400@www.sidetrackeats.com
SUMMARY:Spirit and Sweater Stroll
DESCRIPTION:Join us for a fun-filled evening at the Spirit and Sweater Stroll! Get into the holiday spirit by wearing your favorite festive sweater and strolling through downtown Pleasanton.
URL:https://www.sidetrackeats.com/event/spirit-and-sweater-stroll/
CATEGORIES:Downtown Pleasanton Events
END:VEVENT
END:VCALENDAR